BEGIN:VCALENDAR
VERSION:2.0
PRODID:-//Lebenshilfe Calw e.V. - ECPv6.15.11//NONSGML v1.0//EN
CALSCALE:GREGORIAN
METHOD:PUBLISH
X-WR-CALNAME:Lebenshilfe Calw e.V.
X-ORIGINAL-URL:https://lebenshilfe-calw.de
X-WR-CALDESC:Veranstaltungen für Lebenshilfe Calw e.V.
REFRESH-INTERVAL;VALUE=DURATION:PT1H
X-Robots-Tag:noindex
X-PUBLISHED-TTL:PT1H
BEGIN:VTIMEZONE
TZID:Europe/Berlin
BEGIN:DAYLIGHT
TZOFFSETFROM:+0100
TZOFFSETTO:+0200
TZNAME:CEST
DTSTART:20240331T010000
END:DAYLIGHT
BEGIN:STANDARD
TZOFFSETFROM:+0200
TZOFFSETTO:+0100
TZNAME:CET
DTSTART:20241027T010000
END:STANDARD
BEGIN:DAYLIGHT
TZOFFSETFROM:+0100
TZOFFSETTO:+0200
TZNAME:CEST
DTSTART:20250330T010000
END:DAYLIGHT
BEGIN:STANDARD
TZOFFSETFROM:+0200
TZOFFSETTO:+0100
TZNAME:CET
DTSTART:20251026T010000
END:STANDARD
BEGIN:DAYLIGHT
TZOFFSETFROM:+0100
TZOFFSETTO:+0200
TZNAME:CEST
DTSTART:20260329T010000
END:DAYLIGHT
BEGIN:STANDARD
TZOFFSETFROM:+0200
TZOFFSETTO:+0100
TZNAME:CET
DTSTART:20261025T010000
END:STANDARD
END:VTIMEZONE
BEGIN:VEVENT
DTSTART;TZID=Europe/Berlin:20250702T130000
DTEND;TZID=Europe/Berlin:20250702T160000
DTSTAMP:20260424T154553
CREATED:20250111T130557Z
LAST-MODIFIED:20250111T130557Z
UID:9344-1751461200-1751472000@lebenshilfe-calw.de
SUMMARY:Mittwochsgruppe für Grundschulkinder
DESCRIPTION:Jeden Mittwoch (außer in den Schulferien) holen wir dich (Kinder im Grundschulalter) an der Karl-Georg-Haldenwang Schule ab und verbringen gemeinsam eine schöne Zeit im Lebenshilfehaus in Neuhengstett. Manchmal machen wir es uns gemütlich mit basteln und spielen\, mal wird auch ein kleiner Ausflug unternommen.
URL:https://lebenshilfe-calw.de/event/mittwochsgruppe-fuer-grundschulkinder-18/
END:VEVENT
BEGIN:VEVENT
DTSTART;TZID=Europe/Berlin:20250704T130000
DTEND;TZID=Europe/Berlin:20250704T170000
DTSTAMP:20260424T154553
CREATED:20250111T130927Z
LAST-MODIFIED:20250111T130927Z
UID:9411-1751634000-1751648400@lebenshilfe-calw.de
SUMMARY:Theater – Projekt
DESCRIPTION:Du wolltest schon immer in eine andere Rolle schlüpfen? Dann bist Du hier genau richtig!!  Wir werden uns richtig toll verkleiden. Dann spielen wir zusammen ein Theaterstück. Am Sommerfest der Lebenshilfe werden wir für unsere Familien eine fantastische Aufführung auf die Bühne bringen. Für Verpflegung ist gesorgt. Wichtig ist\, dass Du an allen Terminen teilnehmen kannst!
URL:https://lebenshilfe-calw.de/event/theater-projekt/
END:VEVENT
BEGIN:VEVENT
DTSTART;TZID=Europe/Berlin:20250705T100000
DTEND;TZID=Europe/Berlin:20250705T170000
DTSTAMP:20260424T154553
CREATED:20250111T130841Z
LAST-MODIFIED:20250111T130841Z
UID:9396-1751709600-1751734800@lebenshilfe-calw.de
SUMMARY:Ländle-Tour
DESCRIPTION:Einmal im Monat erkunden wir unser schwäbisches Ländle. Das tun wir mit Bus und Bahn. Wir besuchen große Städte\, Burgen und andere schöne Orte. Da wir unterwegs einkehren\, bitte immer einen Geldbeutel mit ca. 20 € mitbringen. Bring bitte auch deinen Behindertenausweis mit gültiger Wertmarke mit. Juhuu und schon geht es los!
URL:https://lebenshilfe-calw.de/event/laendle-tour-6/
END:VEVENT
BEGIN:VEVENT
DTSTART;TZID=Europe/Berlin:20250705T100000
DTEND;TZID=Europe/Berlin:20250705T170000
DTSTAMP:20260424T154553
CREATED:20250111T130927Z
LAST-MODIFIED:20250111T130927Z
UID:9412-1751709600-1751734800@lebenshilfe-calw.de
SUMMARY:Theater – Projekt
DESCRIPTION:Du wolltest schon immer in eine andere Rolle schlüpfen? Dann bist Du hier genau richtig!!  Wir werden uns richtig toll verkleiden. Dann spielen wir zusammen ein Theaterstück. Am Sommerfest der Lebenshilfe werden wir für unsere Familien eine fantastische Aufführung auf die Bühne bringen. Für Verpflegung ist gesorgt. Wichtig ist\, dass Du an allen Terminen teilnehmen kannst!
URL:https://lebenshilfe-calw.de/event/theater-projekt-2/
END:VEVENT
BEGIN:VEVENT
DTSTART;TZID=Europe/Berlin:20250709T130000
DTEND;TZID=Europe/Berlin:20250709T160000
DTSTAMP:20260424T154553
CREATED:20250111T130557Z
LAST-MODIFIED:20250111T130557Z
UID:9345-1752066000-1752076800@lebenshilfe-calw.de
SUMMARY:Mittwochsgruppe für Grundschulkinder
DESCRIPTION:Jeden Mittwoch (außer in den Schulferien) holen wir dich (Kinder im Grundschulalter) an der Karl-Georg-Haldenwang Schule ab und verbringen gemeinsam eine schöne Zeit im Lebenshilfehaus in Neuhengstett. Manchmal machen wir es uns gemütlich mit basteln und spielen\, mal wird auch ein kleiner Ausflug unternommen.
URL:https://lebenshilfe-calw.de/event/mittwochsgruppe-fuer-grundschulkinder-19/
END:VEVENT
BEGIN:VEVENT
DTSTART;TZID=Europe/Berlin:20250711T130000
DTEND;TZID=Europe/Berlin:20250711T170000
DTSTAMP:20260424T154553
CREATED:20250111T130927Z
LAST-MODIFIED:20250111T130927Z
UID:9413-1752238800-1752253200@lebenshilfe-calw.de
SUMMARY:Theater – Projekt
DESCRIPTION:Du wolltest schon immer in eine andere Rolle schlüpfen? Dann bist Du hier genau richtig!!  Wir werden uns richtig toll verkleiden. Dann spielen wir zusammen ein Theaterstück. Am Sommerfest der Lebenshilfe werden wir für unsere Familien eine fantastische Aufführung auf die Bühne bringen. Für Verpflegung ist gesorgt. Wichtig ist\, dass Du an allen Terminen teilnehmen kannst!
URL:https://lebenshilfe-calw.de/event/theater-projekt-3/
END:VEVENT
BEGIN:VEVENT
DTSTART;TZID=Europe/Berlin:20250712T100000
DTEND;TZID=Europe/Berlin:20250712T170000
DTSTAMP:20260424T154553
CREATED:20250111T130927Z
LAST-MODIFIED:20250111T130927Z
UID:9414-1752314400-1752339600@lebenshilfe-calw.de
SUMMARY:Theater – Projekt
DESCRIPTION:Du wolltest schon immer in eine andere Rolle schlüpfen? Dann bist Du hier genau richtig!!  Wir werden uns richtig toll verkleiden. Dann spielen wir zusammen ein Theaterstück. Am Sommerfest der Lebenshilfe werden wir für unsere Familien eine fantastische Aufführung auf die Bühne bringen. Für Verpflegung ist gesorgt. Wichtig ist\, dass Du an allen Terminen teilnehmen kannst!
URL:https://lebenshilfe-calw.de/event/theater-projekt-4/
END:VEVENT
BEGIN:VEVENT
DTSTART;TZID=Europe/Berlin:20250713T140000
DTEND;TZID=Europe/Berlin:20250713T190000
DTSTAMP:20260424T154553
CREATED:20250111T131012Z
LAST-MODIFIED:20250111T131012Z
UID:9429-1752415200-1752433200@lebenshilfe-calw.de
SUMMARY:Sommerfest mit Theateraufführung
DESCRIPTION:Auch dieses Jahr wollen wir wieder gemeinsam ein Sommerfest im Garten des Lebenshilfehaus feiern. Freut euch auf gemütliches Beisammensein\, gutes Essen und vieles mehr!Auch dieses Jahr wird es wieder eine kleine Theateraufführung unserer tollen Theatertruppe geben. Das dürft ihr nicht verpassen! \nWir freuen uns über Kuchen- und Salatspenden! Falls ihr etwas mitbringen wollt\, informiert uns bitte zur besseren Planbarkeit kurz über vorstand@lebenshilfe-calw.de. \nAnmeldung ist nicht erforderlich; Aber es hilft uns natürlich trotzdem beim planen\, wenn ihr uns Bescheid sagt\, dass ihr kommt.
URL:https://lebenshilfe-calw.de/event/sommerfest-mit-theaterauffuehrung/
END:VEVENT
BEGIN:VEVENT
DTSTART;TZID=Europe/Berlin:20250716T130000
DTEND;TZID=Europe/Berlin:20250716T160000
DTSTAMP:20260424T154553
CREATED:20250111T130611Z
LAST-MODIFIED:20250111T130611Z
UID:9346-1752670800-1752681600@lebenshilfe-calw.de
SUMMARY:Mittwochsgruppe für Grundschulkinder
DESCRIPTION:Jeden Mittwoch (außer in den Schulferien) holen wir dich (Kinder im Grundschulalter) an der Karl-Georg-Haldenwang Schule ab und verbringen gemeinsam eine schöne Zeit im Lebenshilfehaus in Neuhengstett. Manchmal machen wir es uns gemütlich mit basteln und spielen\, mal wird auch ein kleiner Ausflug unternommen.
URL:https://lebenshilfe-calw.de/event/mittwochsgruppe-fuer-grundschulkinder-20/
END:VEVENT
BEGIN:VEVENT
DTSTART;TZID=Europe/Berlin:20250719T100000
DTEND;TZID=Europe/Berlin:20250719T170000
DTSTAMP:20260424T154553
CREATED:20250111T130756Z
LAST-MODIFIED:20250111T130756Z
UID:9381-1752919200-1752944400@lebenshilfe-calw.de
SUMMARY:Küchenclub: „Tischlein deck dich“ ab 14 Jahre
DESCRIPTION:In unserem Küchenclub kannst du kochen und backen. Wir treffen uns im Lebenshilfehaus. Gemeinsam machen wir ein leckeres Buffet.Was machen wir?\n • Wir lernen neue Rezepte kennen.\n • Wir kochen und backen zusammen.\n • Am Ende essen wir das\, was wir gemacht haben.\nDer Küchenclub ist für alle\, die gerne kochen und backen. Du brauchst keine besonderen Kenntnisse. Jeder ist herzlich willkommen!
URL:https://lebenshilfe-calw.de/event/kuechenclub-tischlein-deck-dich-ab-14-jahre/
END:VEVENT
BEGIN:VEVENT
DTSTART;TZID=Europe/Berlin:20250723T130000
DTEND;TZID=Europe/Berlin:20250723T160000
DTSTAMP:20260424T154553
CREATED:20250111T130611Z
LAST-MODIFIED:20250111T130611Z
UID:9347-1753275600-1753286400@lebenshilfe-calw.de
SUMMARY:Mittwochsgruppe für Grundschulkinder
DESCRIPTION:Jeden Mittwoch (außer in den Schulferien) holen wir dich (Kinder im Grundschulalter) an der Karl-Georg-Haldenwang Schule ab und verbringen gemeinsam eine schöne Zeit im Lebenshilfehaus in Neuhengstett. Manchmal machen wir es uns gemütlich mit basteln und spielen\, mal wird auch ein kleiner Ausflug unternommen.
URL:https://lebenshilfe-calw.de/event/mittwochsgruppe-fuer-grundschulkinder-21/
END:VEVENT
BEGIN:VEVENT
DTSTART;TZID=Europe/Berlin:20250725T120000
DTEND;TZID=Europe/Berlin:20250725T170000
DTSTAMP:20260424T154553
CREATED:20250111T130454Z
LAST-MODIFIED:20250111T130454Z
UID:9317-1753444800-1753462800@lebenshilfe-calw.de
SUMMARY:Freitags – Club (ab 10 Jahre)
DESCRIPTION:Du hast Lust dich mit anderen Jugendlichen und jungen Leuten zu treffen? Dann bist du hier richtig! Wir holen dich an der Schule ab und erleben tolle Sachen zusammen. Das kann zum Beispiel ein Ausflug ins Jugendhaus Calw sein oder eine Disco – Nachmittag im Lebenshilfe-Haus und vieles mehr.  Welche Ideen und Wünsche hast du?
URL:https://lebenshilfe-calw.de/event/freitags-club-ab-10-jahre-2/
END:VEVENT
BEGIN:VEVENT
DTSTART;TZID=Europe/Berlin:20250725T130000
DTEND;TZID=Europe/Berlin:20250727T160000
DTSTAMP:20260424T154553
CREATED:20250111T130927Z
LAST-MODIFIED:20250111T130927Z
UID:9415-1753448400-1753632000@lebenshilfe-calw.de
SUMMARY:Sommer - Wochenende im Lebenshilfehaus
DESCRIPTION:Herzlich Willkommen zum Sommer – Wochenende im Lebenshilfehaus!An diesem besonderen Wochenende haben wir viele tolle Sachen für dich geplant.\n    • Open Air Kino im Garten: Du kannst dir einen Film im Garten anschauen. Snacks und Getränke gibt es auch!\n    • Kleine Ausflüge: Wir werden auch kleine Ausflüge machen. Du kannst die Umgebung entdecken und neue Orte kennenlernen. Es wird bestimmt viel Spaß machen!\n    • Leckeres Essen: Natürlich gibt es auch leckeres Essen! Wir kochen gemeinsam\, was uns schmeckt.\nKomm vorbei und erlebe ein schönes Wochenende mit vielen tollen Aktivitäten. Wir freuen uns auf dich!
URL:https://lebenshilfe-calw.de/event/sommer-wochenende-im-lebenshilfehaus/
END:VEVENT
BEGIN:VEVENT
DTSTART;TZID=Europe/Berlin:20250730T130000
DTEND;TZID=Europe/Berlin:20250730T160000
DTSTAMP:20260424T154553
CREATED:20250111T130611Z
LAST-MODIFIED:20250111T130611Z
UID:9348-1753880400-1753891200@lebenshilfe-calw.de
SUMMARY:Mittwochsgruppe für Grundschulkinder
DESCRIPTION:Jeden Mittwoch (außer in den Schulferien) holen wir dich (Kinder im Grundschulalter) an der Karl-Georg-Haldenwang Schule ab und verbringen gemeinsam eine schöne Zeit im Lebenshilfehaus in Neuhengstett. Manchmal machen wir es uns gemütlich mit basteln und spielen\, mal wird auch ein kleiner Ausflug unternommen.
URL:https://lebenshilfe-calw.de/event/mittwochsgruppe-fuer-grundschulkinder-22/
END:VEVENT
BEGIN:VEVENT
DTSTART;TZID=Europe/Berlin:20250731T083000
DTEND;TZID=Europe/Berlin:20250731T153000
DTSTAMP:20260424T154553
CREATED:20250111T130656Z
LAST-MODIFIED:20250111T130656Z
UID:9363-1753950600-1753975800@lebenshilfe-calw.de
SUMMARY:Ferienbetreuung für Kinder Sommer
DESCRIPTION:In der Ferienbetreuung gibt es viele tolle Dinge zu erleben:    • Spiele im Freien: Wir spielen im Garten und machen Ausflüge.\n    • Basteln: Wir gestalten kreative Sachen mit verschiedenen Materialien.\n    • Kochen: Wir bereiten leckere Snacks zusammen.\n    • Bei gutem Wetter gibt es Wasserspiele und einen kleinen Pool!\n    • Es gibt ein warmes Mittagessen\, viel Abwechslung und jede Menge Spaß!\nKinder mit dem Pflegegrad 4 oder 5\, die eine 1:1 Betreuung benötigen\, rechnen wir als Einzelbetreuung ab. Bitte setzen Sie sich hierzu mit uns in Verbindung. Die Ferienangebote finden im Lebenshilfe-Haus in Neuhengstett statt.
URL:https://lebenshilfe-calw.de/event/ferienbetreuung-fuer-kinder-sommer/
END:VEVENT
END:VCALENDAR