BEGIN:VCALENDAR
VERSION:2.0
PRODID:-//Lebenshilfe Calw e.V. - ECPv6.15.11//NONSGML v1.0//EN
CALSCALE:GREGORIAN
METHOD:PUBLISH
X-ORIGINAL-URL:https://lebenshilfe-calw.de
X-WR-CALDESC:Veranstaltungen für Lebenshilfe Calw e.V.
REFRESH-INTERVAL;VALUE=DURATION:PT1H
X-Robots-Tag:noindex
X-PUBLISHED-TTL:PT1H
BEGIN:VTIMEZONE
TZID:Europe/Berlin
BEGIN:DAYLIGHT
TZOFFSETFROM:+0100
TZOFFSETTO:+0200
TZNAME:CEST
DTSTART:20240331T010000
END:DAYLIGHT
BEGIN:STANDARD
TZOFFSETFROM:+0200
TZOFFSETTO:+0100
TZNAME:CET
DTSTART:20241027T010000
END:STANDARD
BEGIN:DAYLIGHT
TZOFFSETFROM:+0100
TZOFFSETTO:+0200
TZNAME:CEST
DTSTART:20250330T010000
END:DAYLIGHT
BEGIN:STANDARD
TZOFFSETFROM:+0200
TZOFFSETTO:+0100
TZNAME:CET
DTSTART:20251026T010000
END:STANDARD
BEGIN:DAYLIGHT
TZOFFSETFROM:+0100
TZOFFSETTO:+0200
TZNAME:CEST
DTSTART:20260329T010000
END:DAYLIGHT
BEGIN:STANDARD
TZOFFSETFROM:+0200
TZOFFSETTO:+0100
TZNAME:CET
DTSTART:20261025T010000
END:STANDARD
END:VTIMEZONE
BEGIN:VEVENT
DTSTART;TZID=Europe/Berlin:20250801T083000
DTEND;TZID=Europe/Berlin:20250801T153000
DTSTAMP:20260424T140132
CREATED:20250111T130657Z
LAST-MODIFIED:20250111T130657Z
UID:9364-1754037000-1754062200@lebenshilfe-calw.de
SUMMARY:Ferienbetreuung für Kinder Sommer
DESCRIPTION:In der Ferienbetreuung gibt es viele tolle Dinge zu erleben:    • Spiele im Freien: Wir spielen im Garten und machen Ausflüge.\n    • Basteln: Wir gestalten kreative Sachen mit verschiedenen Materialien.\n    • Kochen: Wir bereiten leckere Snacks zusammen.\n    • Bei gutem Wetter gibt es Wasserspiele und einen kleinen Pool!\n    • Es gibt ein warmes Mittagessen\, viel Abwechslung und jede Menge Spaß!\nKinder mit dem Pflegegrad 4 oder 5\, die eine 1:1 Betreuung benötigen\, rechnen wir als Einzelbetreuung ab. Bitte setzen Sie sich hierzu mit uns in Verbindung. Die Ferienangebote finden im Lebenshilfe-Haus in Neuhengstett statt.
URL:https://lebenshilfe-calw.de/event/ferienbetreuung-fuer-kinder-sommer-2/
END:VEVENT
BEGIN:VEVENT
DTSTART;TZID=Europe/Berlin:20250802T100000
DTEND;TZID=Europe/Berlin:20250802T170000
DTSTAMP:20260424T140132
CREATED:20250111T130841Z
LAST-MODIFIED:20250111T130841Z
UID:9397-1754128800-1754154000@lebenshilfe-calw.de
SUMMARY:Ländle-Tour
DESCRIPTION:Einmal im Monat erkunden wir unser schwäbisches Ländle. Das tun wir mit Bus und Bahn. Wir besuchen große Städte\, Burgen und andere schöne Orte. Da wir unterwegs einkehren\, bitte immer einen Geldbeutel mit ca. 20 € mitbringen. Bring bitte auch deinen Behindertenausweis mit gültiger Wertmarke mit. Juhuu und schon geht es los!
URL:https://lebenshilfe-calw.de/event/laendle-tour-7/
END:VEVENT
BEGIN:VEVENT
DTSTART;TZID=Europe/Berlin:20250803T110000
DTEND;TZID=Europe/Berlin:20250803T180000
DTSTAMP:20260424T140132
CREATED:20250111T130756Z
LAST-MODIFIED:20250111T130756Z
UID:9383-1754218800-1754244000@lebenshilfe-calw.de
SUMMARY:„Alice im Wunderland!“ ab 14 Jahre
DESCRIPTION:Wir fahren zum Naturtheater in Renningen. Dort wird das Stück „“Alice im Wunderland“ vorgespielt. Was erwartet dich?\nNachdem wir uns im Lebenshilfehaus mit einem Mittagessen gestärkt haben\, geht es los zum Theater.\nDas Stück erzählt die Geschichte von Alice. Sie fällt in ein geheimnisvolles Wunderland. Dort trifft sie viele tolle und komische Figuren. Das Theater ist draußen in der Natur. Du kannst die Geschichte genießen und die frische Luft erleben.\nWas musst du mitbringen?\n        ◦ Bequeme Kleidung und feste Schuhe\n        ◦ Vielleicht einen Regenschirm oder eine Jacke (für den Fall\, dass das Wetter schlecht wird)\n        ◦ 5 bis 10 Euro Taschengeld für Snacks oder Getränke
URL:https://lebenshilfe-calw.de/event/alice-im-wunderland-ab-14-jahre/
END:VEVENT
BEGIN:VEVENT
DTSTART;TZID=Europe/Berlin:20250804T083000
DTEND;TZID=Europe/Berlin:20250804T153000
DTSTAMP:20260424T140132
CREATED:20250111T130657Z
LAST-MODIFIED:20250111T130657Z
UID:9365-1754296200-1754321400@lebenshilfe-calw.de
SUMMARY:Ferienbetreuung für Kinder Sommer
DESCRIPTION:In der Ferienbetreuung gibt es viele tolle Dinge zu erleben:    • Spiele im Freien: Wir spielen im Garten und machen Ausflüge.\n    • Basteln: Wir gestalten kreative Sachen mit verschiedenen Materialien.\n    • Kochen: Wir bereiten leckere Snacks zusammen.\n    • Bei gutem Wetter gibt es Wasserspiele und einen kleinen Pool!\n    • Es gibt ein warmes Mittagessen\, viel Abwechslung und jede Menge Spaß!\nKinder mit dem Pflegegrad 4 oder 5\, die eine 1:1 Betreuung benötigen\, rechnen wir als Einzelbetreuung ab. Bitte setzen Sie sich hierzu mit uns in Verbindung. Die Ferienangebote finden im Lebenshilfe-Haus in Neuhengstett statt.
URL:https://lebenshilfe-calw.de/event/ferienbetreuung-fuer-kinder-sommer-3/
END:VEVENT
BEGIN:VEVENT
DTSTART;TZID=Europe/Berlin:20250805T083000
DTEND;TZID=Europe/Berlin:20250805T153000
DTSTAMP:20260424T140132
CREATED:20250111T130711Z
LAST-MODIFIED:20250111T130711Z
UID:9366-1754382600-1754407800@lebenshilfe-calw.de
SUMMARY:Ferienbetreuung für Kinder Sommer
DESCRIPTION:In der Ferienbetreuung gibt es viele tolle Dinge zu erleben:    • Spiele im Freien: Wir spielen im Garten und machen Ausflüge.\n    • Basteln: Wir gestalten kreative Sachen mit verschiedenen Materialien.\n    • Kochen: Wir bereiten leckere Snacks zusammen.\n    • Bei gutem Wetter gibt es Wasserspiele und einen kleinen Pool!\n    • Es gibt ein warmes Mittagessen\, viel Abwechslung und jede Menge Spaß!\nKinder mit dem Pflegegrad 4 oder 5\, die eine 1:1 Betreuung benötigen\, rechnen wir als Einzelbetreuung ab. Bitte setzen Sie sich hierzu mit uns in Verbindung. Die Ferienangebote finden im Lebenshilfe-Haus in Neuhengstett statt.
URL:https://lebenshilfe-calw.de/event/ferienbetreuung-fuer-kinder-sommer-4/
END:VEVENT
BEGIN:VEVENT
DTSTART;TZID=Europe/Berlin:20250806T083000
DTEND;TZID=Europe/Berlin:20250806T153000
DTSTAMP:20260424T140132
CREATED:20250111T130711Z
LAST-MODIFIED:20250111T130711Z
UID:9367-1754469000-1754494200@lebenshilfe-calw.de
SUMMARY:Ferienbetreuung für Kinder Sommer
DESCRIPTION:In der Ferienbetreuung gibt es viele tolle Dinge zu erleben:    • Spiele im Freien: Wir spielen im Garten und machen Ausflüge.\n    • Basteln: Wir gestalten kreative Sachen mit verschiedenen Materialien.\n    • Kochen: Wir bereiten leckere Snacks zusammen.\n    • Bei gutem Wetter gibt es Wasserspiele und einen kleinen Pool!\n    • Es gibt ein warmes Mittagessen\, viel Abwechslung und jede Menge Spaß!\nKinder mit dem Pflegegrad 4 oder 5\, die eine 1:1 Betreuung benötigen\, rechnen wir als Einzelbetreuung ab. Bitte setzen Sie sich hierzu mit uns in Verbindung. Die Ferienangebote finden im Lebenshilfe-Haus in Neuhengstett statt.
URL:https://lebenshilfe-calw.de/event/ferienbetreuung-fuer-kinder-sommer-5/
END:VEVENT
BEGIN:VEVENT
DTSTART;TZID=Europe/Berlin:20250807T083000
DTEND;TZID=Europe/Berlin:20250807T153000
DTSTAMP:20260424T140132
CREATED:20250111T130711Z
LAST-MODIFIED:20250111T130711Z
UID:9368-1754555400-1754580600@lebenshilfe-calw.de
SUMMARY:Ferienbetreuung für Kinder Sommer
DESCRIPTION:In der Ferienbetreuung gibt es viele tolle Dinge zu erleben:    • Spiele im Freien: Wir spielen im Garten und machen Ausflüge.\n    • Basteln: Wir gestalten kreative Sachen mit verschiedenen Materialien.\n    • Kochen: Wir bereiten leckere Snacks zusammen.\n    • Bei gutem Wetter gibt es Wasserspiele und einen kleinen Pool!\n    • Es gibt ein warmes Mittagessen\, viel Abwechslung und jede Menge Spaß!\nKinder mit dem Pflegegrad 4 oder 5\, die eine 1:1 Betreuung benötigen\, rechnen wir als Einzelbetreuung ab. Bitte setzen Sie sich hierzu mit uns in Verbindung. Die Ferienangebote finden im Lebenshilfe-Haus in Neuhengstett statt.
URL:https://lebenshilfe-calw.de/event/ferienbetreuung-fuer-kinder-sommer-6/
END:VEVENT
BEGIN:VEVENT
DTSTART;TZID=Europe/Berlin:20250808T083000
DTEND;TZID=Europe/Berlin:20250808T153000
DTSTAMP:20260424T140132
CREATED:20250111T130712Z
LAST-MODIFIED:20250111T130712Z
UID:9369-1754641800-1754667000@lebenshilfe-calw.de
SUMMARY:Ferienbetreuung für Kinder Sommer
DESCRIPTION:In der Ferienbetreuung gibt es viele tolle Dinge zu erleben:    • Spiele im Freien: Wir spielen im Garten und machen Ausflüge.\n    • Basteln: Wir gestalten kreative Sachen mit verschiedenen Materialien.\n    • Kochen: Wir bereiten leckere Snacks zusammen.\n    • Bei gutem Wetter gibt es Wasserspiele und einen kleinen Pool!\n    • Es gibt ein warmes Mittagessen\, viel Abwechslung und jede Menge Spaß!\nKinder mit dem Pflegegrad 4 oder 5\, die eine 1:1 Betreuung benötigen\, rechnen wir als Einzelbetreuung ab. Bitte setzen Sie sich hierzu mit uns in Verbindung. Die Ferienangebote finden im Lebenshilfe-Haus in Neuhengstett statt.
URL:https://lebenshilfe-calw.de/event/ferienbetreuung-fuer-kinder-sommer-7/
END:VEVENT
BEGIN:VEVENT
DTSTART;TZID=Europe/Berlin:20250809T200000
DTEND;TZID=Europe/Berlin:20250809T230000
DTSTAMP:20260424T140132
CREATED:20250111T130941Z
LAST-MODIFIED:20250111T130941Z
UID:9416-1754769600-1754780400@lebenshilfe-calw.de
SUMMARY:Open Air Kino im Lebenshilfe-Garten
DESCRIPTION:Wir laden euch herzlich ein zum Open Air Kino im Lebenshilfe Garten! Es wird ein schöner Abend mit Filmen unter dem Sternenhimmel.Was erwartet euch?\nWir zeigen einen tollen Film für Jung und Alt. Es gibt genug Platz für alle.\nSchaut euch den Film an…\n…auf einer großen Leinwand! Ihr könnt gemütlich auf Decken oder Stühlen sitzen. Freut euch auf Popcorn\, Nachos und kalte Getränke\nBring warme Kleidung mit\, denn abends kann es kühl werden.
URL:https://lebenshilfe-calw.de/event/open-air-kino-im-lebenshilfe-garten/
END:VEVENT
END:VCALENDAR