BEGIN:VCALENDAR
VERSION:2.0
PRODID:-//Lebenshilfe Calw e.V. - ECPv6.15.11//NONSGML v1.0//EN
CALSCALE:GREGORIAN
METHOD:PUBLISH
X-WR-CALNAME:Lebenshilfe Calw e.V.
X-ORIGINAL-URL:https://lebenshilfe-calw.de
X-WR-CALDESC:Veranstaltungen für Lebenshilfe Calw e.V.
REFRESH-INTERVAL;VALUE=DURATION:PT1H
X-Robots-Tag:noindex
X-PUBLISHED-TTL:PT1H
BEGIN:VTIMEZONE
TZID:Europe/Berlin
BEGIN:DAYLIGHT
TZOFFSETFROM:+0100
TZOFFSETTO:+0200
TZNAME:CEST
DTSTART:20240331T010000
END:DAYLIGHT
BEGIN:STANDARD
TZOFFSETFROM:+0200
TZOFFSETTO:+0100
TZNAME:CET
DTSTART:20241027T010000
END:STANDARD
BEGIN:DAYLIGHT
TZOFFSETFROM:+0100
TZOFFSETTO:+0200
TZNAME:CEST
DTSTART:20250330T010000
END:DAYLIGHT
BEGIN:STANDARD
TZOFFSETFROM:+0200
TZOFFSETTO:+0100
TZNAME:CET
DTSTART:20251026T010000
END:STANDARD
BEGIN:DAYLIGHT
TZOFFSETFROM:+0100
TZOFFSETTO:+0200
TZNAME:CEST
DTSTART:20260329T010000
END:DAYLIGHT
BEGIN:STANDARD
TZOFFSETFROM:+0200
TZOFFSETTO:+0100
TZNAME:CET
DTSTART:20261025T010000
END:STANDARD
END:VTIMEZONE
BEGIN:VEVENT
DTSTART;TZID=Europe/Berlin:20251001T130000
DTEND;TZID=Europe/Berlin:20251001T160000
DTSTAMP:20260424T105428
CREATED:20250111T130612Z
LAST-MODIFIED:20250111T130612Z
UID:9350-1759323600-1759334400@lebenshilfe-calw.de
SUMMARY:Mittwochsgruppe für Grundschulkinder
DESCRIPTION:Jeden Mittwoch (außer in den Schulferien) holen wir dich (Kinder im Grundschulalter) an der Karl-Georg-Haldenwang Schule ab und verbringen gemeinsam eine schöne Zeit im Lebenshilfehaus in Neuhengstett. Manchmal machen wir es uns gemütlich mit basteln und spielen\, mal wird auch ein kleiner Ausflug unternommen.
URL:https://lebenshilfe-calw.de/event/mittwochsgruppe-fuer-grundschulkinder-24/
END:VEVENT
BEGIN:VEVENT
DTSTART;TZID=Europe/Berlin:20251004T100000
DTEND;TZID=Europe/Berlin:20251004T170000
DTSTAMP:20260424T105428
CREATED:20250111T130842Z
LAST-MODIFIED:20250111T130842Z
UID:9399-1759572000-1759597200@lebenshilfe-calw.de
SUMMARY:Ländle-Tour
DESCRIPTION:Einmal im Monat erkunden wir unser schwäbisches Ländle. Das tun wir mit Bus und Bahn. Wir besuchen große Städte\, Burgen und andere schöne Orte. Da wir unterwegs einkehren\, bitte immer einen Geldbeutel mit ca. 20 € mitbringen. Bring bitte auch deinen Behindertenausweis mit gültiger Wertmarke mit. Juhuu und schon geht es los!
URL:https://lebenshilfe-calw.de/event/laendle-tour-9/
END:VEVENT
BEGIN:VEVENT
DTSTART;TZID=Europe/Berlin:20251008T130000
DTEND;TZID=Europe/Berlin:20251008T160000
DTSTAMP:20260424T105428
CREATED:20250111T130626Z
LAST-MODIFIED:20250111T130626Z
UID:9351-1759928400-1759939200@lebenshilfe-calw.de
SUMMARY:Mittwochsgruppe für Grundschulkinder
DESCRIPTION:Jeden Mittwoch (außer in den Schulferien) holen wir dich (Kinder im Grundschulalter) an der Karl-Georg-Haldenwang Schule ab und verbringen gemeinsam eine schöne Zeit im Lebenshilfehaus in Neuhengstett. Manchmal machen wir es uns gemütlich mit basteln und spielen\, mal wird auch ein kleiner Ausflug unternommen.
URL:https://lebenshilfe-calw.de/event/mittwochsgruppe-fuer-grundschulkinder-25/
END:VEVENT
BEGIN:VEVENT
DTSTART;TZID=Europe/Berlin:20251011T170000
DTEND;TZID=Europe/Berlin:20251011T210000
DTSTAMP:20260424T105428
CREATED:20250111T130942Z
LAST-MODIFIED:20250111T130942Z
UID:9419-1760202000-1760216400@lebenshilfe-calw.de
SUMMARY:Schlagernacht des Jahres
DESCRIPTION:Herzlich Willkommen zur Schlagernacht des Jahres in der Schleyer Halle Stuttgart!Freu dich auf einen unvergesslichen Abend mit vielen tollen Schlagersongs und bekannten Stars. Hier wirst du deine Lieblingslieder hören und mit den Künstlern feiern!\nEs gibt viele tolle Sänger und Sängerinnen\, die für dich singen werden. Sie bringen die besten Schlagerhits auf die Bühne. Du kannst mitsingen\, tanzen und die Musik genießen.\nDer Abend wird voller Stimmung\, Musik und guter Laune sein. Du kannst dich auf viele Hits freuen\, die du sicher kennst.\nMitbringen: 30 Euro Taschengeld für Essen und Trinken
URL:https://lebenshilfe-calw.de/event/schlagernacht-des-jahres/
END:VEVENT
BEGIN:VEVENT
DTSTART;TZID=Europe/Berlin:20251012T140000
DTEND;TZID=Europe/Berlin:20251012T170000
DTSTAMP:20260424T105428
CREATED:20250111T130812Z
LAST-MODIFIED:20250111T130812Z
UID:9390-1760277600-1760288400@lebenshilfe-calw.de
SUMMARY:Bingo Nachmittag
DESCRIPTION:„Endlich spielen wir wieder BINGO!Ihr bekommt von uns die Bingo – Kärtchen mit den Zahlen und einen Stift dazu.\nWie es geht\, erklären wir euch. Dann kann es auch schon losgehen.\nZusammenspielen und singen wir und haben sehr viel Spaß.\nNatürlich gibt es auch wieder Urkunden\, Medaillen und einen Pokal zu gewinnen.\nDie Bingo-Fee und ihre Jungs freuen sich sehr auf euch!“
URL:https://lebenshilfe-calw.de/event/bingo-nachmittag-4/
END:VEVENT
BEGIN:VEVENT
DTSTART;TZID=Europe/Berlin:20251015T130000
DTEND;TZID=Europe/Berlin:20251015T160000
DTSTAMP:20260424T105428
CREATED:20250111T130626Z
LAST-MODIFIED:20250111T130626Z
UID:9352-1760533200-1760544000@lebenshilfe-calw.de
SUMMARY:Mittwochsgruppe für Grundschulkinder
DESCRIPTION:Jeden Mittwoch (außer in den Schulferien) holen wir dich (Kinder im Grundschulalter) an der Karl-Georg-Haldenwang Schule ab und verbringen gemeinsam eine schöne Zeit im Lebenshilfehaus in Neuhengstett. Manchmal machen wir es uns gemütlich mit basteln und spielen\, mal wird auch ein kleiner Ausflug unternommen.
URL:https://lebenshilfe-calw.de/event/mittwochsgruppe-fuer-grundschulkinder-26/
END:VEVENT
BEGIN:VEVENT
DTSTART;TZID=Europe/Berlin:20251017T120000
DTEND;TZID=Europe/Berlin:20251017T170000
DTSTAMP:20260424T105428
CREATED:20250111T130455Z
LAST-MODIFIED:20250111T130455Z
UID:9321-1760702400-1760720400@lebenshilfe-calw.de
SUMMARY:Freitags – Club (ab 10 Jahre)
DESCRIPTION:Du hast Lust dich mit anderen Jugendlichen und jungen Leuten zu treffen? Dann bist du hier richtig! Wir holen dich an der Schule ab und erleben tolle Sachen zusammen. Das kann zum Beispiel ein Ausflug ins Jugendhaus Calw sein oder eine Disco – Nachmittag im Lebenshilfe-Haus und vieles mehr.  Welche Ideen und Wünsche hast du?
URL:https://lebenshilfe-calw.de/event/freitags-club-ab-10-jahre-6/
END:VEVENT
BEGIN:VEVENT
DTSTART;TZID=Europe/Berlin:20251022T130000
DTEND;TZID=Europe/Berlin:20251022T160000
DTSTAMP:20260424T105428
CREATED:20250111T130626Z
LAST-MODIFIED:20250111T130626Z
UID:9353-1761138000-1761148800@lebenshilfe-calw.de
SUMMARY:Mittwochsgruppe für Grundschulkinder
DESCRIPTION:Jeden Mittwoch (außer in den Schulferien) holen wir dich (Kinder im Grundschulalter) an der Karl-Georg-Haldenwang Schule ab und verbringen gemeinsam eine schöne Zeit im Lebenshilfehaus in Neuhengstett. Manchmal machen wir es uns gemütlich mit basteln und spielen\, mal wird auch ein kleiner Ausflug unternommen.
URL:https://lebenshilfe-calw.de/event/mittwochsgruppe-fuer-grundschulkinder-27/
END:VEVENT
BEGIN:VEVENT
DTSTART;TZID=Europe/Berlin:20251024T130000
DTEND;TZID=Europe/Berlin:20251026T170000
DTSTAMP:20260424T105428
CREATED:20250111T130942Z
LAST-MODIFIED:20250111T130942Z
UID:9420-1761310800-1761498000@lebenshilfe-calw.de
SUMMARY:Pullman City Westernstadt in Bayern
DESCRIPTION:Komm mit auf eine aufregende Reise in den Wilden Westen – direkt in Pullman City\, die lebende Westernstadt in Bayern nach Eging am See! Hier kannst du den echten Western-Lifestyle erleben und in die Welt der Cowboys und Indianer eintauchen.Was erwartet dich?\n        ◦ Echte Salons: Besuche die authentischen Salons der Westernstadt\, die wie im Wilden Westen aussehen. Hier kannst du entspannen und das Western-Feeling genießen.\n        ◦ Tolle Shows: Freu dich auf spannende Western-Shows mit Cowboys\, Pferden und wilden Kämpfen. Es wird richtig aufregend!\n        ◦ Wilde Western-Atmosphäre: Spaziere durch die Straßen der Stadt\, entdecke alte Gebäude und erlebe das Leben von damals hautnah.\n        ◦ 2 Übernachtungen in der Ferienwohnung: Du übernachtest direkt in der Westernstadt! In der Wohnung kannst du dich nach einem spannenden Tag ausruhen und gut schlafen. Wir versorgen uns selbst. \nMitbringen: Taschengeld für Snacks und Andenken.\nACHTUNG: lange Anfahrt!
URL:https://lebenshilfe-calw.de/event/pullman-city-westernstadt-in-bayern/
END:VEVENT
BEGIN:VEVENT
DTSTART;TZID=Europe/Berlin:20251027T083000
DTEND;TZID=Europe/Berlin:20251031T153000
DTSTAMP:20260424T105428
CREATED:20250111T130712Z
LAST-MODIFIED:20250111T130712Z
UID:9370-1761553800-1761924600@lebenshilfe-calw.de
SUMMARY:Ferienbetreuung für Kinder Herbst
DESCRIPTION:In der Ferienbetreuung gibt es viele tolle Dinge zu erleben:    • Spiele im Freien: Wir spielen im Garten und machen Ausflüge.\n    • Basteln: Wir gestalten kreative Sachen mit verschiedenen Materialien.\n    • Kochen: Wir bereiten leckere Snacks zusammen.\n    • Es gibt Zeit für Geschichten und zum Ausruhen.\n    • Es gibt ein warmes Mittagessen\, viel Abwechslung und jede Menge Spaß!\nKinder mit dem Pflegegrad 4 oder 5\, die eine 1:1 Betreuung benötigen\, rechnen wir als Einzelbetreuung ab. Bitte setzen Sie sich hierzu mit uns in Verbindung. Die Ferienangebote finden im Lebenshilfe-Haus in Neuhengstett statt.
URL:https://lebenshilfe-calw.de/event/ferienbetreuung-fuer-kinder-herbst/
END:VEVENT
END:VCALENDAR