BEGIN:VCALENDAR
VERSION:2.0
PRODID:-//Lebenshilfe Calw e.V. - ECPv6.15.11//NONSGML v1.0//EN
CALSCALE:GREGORIAN
METHOD:PUBLISH
X-WR-CALNAME:Lebenshilfe Calw e.V.
X-ORIGINAL-URL:https://lebenshilfe-calw.de
X-WR-CALDESC:Veranstaltungen für Lebenshilfe Calw e.V.
REFRESH-INTERVAL;VALUE=DURATION:PT1H
X-Robots-Tag:noindex
X-PUBLISHED-TTL:PT1H
BEGIN:VTIMEZONE
TZID:Europe/Berlin
BEGIN:DAYLIGHT
TZOFFSETFROM:+0100
TZOFFSETTO:+0200
TZNAME:CEST
DTSTART:20240331T010000
END:DAYLIGHT
BEGIN:STANDARD
TZOFFSETFROM:+0200
TZOFFSETTO:+0100
TZNAME:CET
DTSTART:20241027T010000
END:STANDARD
BEGIN:DAYLIGHT
TZOFFSETFROM:+0100
TZOFFSETTO:+0200
TZNAME:CEST
DTSTART:20250330T010000
END:DAYLIGHT
BEGIN:STANDARD
TZOFFSETFROM:+0200
TZOFFSETTO:+0100
TZNAME:CET
DTSTART:20251026T010000
END:STANDARD
BEGIN:DAYLIGHT
TZOFFSETFROM:+0100
TZOFFSETTO:+0200
TZNAME:CEST
DTSTART:20260329T010000
END:DAYLIGHT
BEGIN:STANDARD
TZOFFSETFROM:+0200
TZOFFSETTO:+0100
TZNAME:CET
DTSTART:20261025T010000
END:STANDARD
END:VTIMEZONE
BEGIN:VEVENT
DTSTART;TZID=Europe/Berlin:20251203T130000
DTEND;TZID=Europe/Berlin:20251203T160000
DTSTAMP:20260422T122609
CREATED:20250111T130641Z
LAST-MODIFIED:20250111T130641Z
UID:9358-1764766800-1764777600@lebenshilfe-calw.de
SUMMARY:Mittwochsgruppe für Grundschulkinder
DESCRIPTION:Jeden Mittwoch (außer in den Schulferien) holen wir dich (Kinder im Grundschulalter) an der Karl-Georg-Haldenwang Schule ab und verbringen gemeinsam eine schöne Zeit im Lebenshilfehaus in Neuhengstett. Manchmal machen wir es uns gemütlich mit basteln und spielen\, mal wird auch ein kleiner Ausflug unternommen.
URL:https://lebenshilfe-calw.de/event/mittwochsgruppe-fuer-grundschulkinder-32/
END:VEVENT
BEGIN:VEVENT
DTSTART;TZID=Europe/Berlin:20251206T100000
DTEND;TZID=Europe/Berlin:20251206T170000
DTSTAMP:20260422T122609
CREATED:20250111T130856Z
LAST-MODIFIED:20250111T130856Z
UID:9401-1765015200-1765040400@lebenshilfe-calw.de
SUMMARY:Ländle-Tour
DESCRIPTION:Einmal im Monat erkunden wir unser schwäbisches Ländle. Das tun wir mit Bus und Bahn. Wir besuchen große Städte\, Burgen und andere schöne Orte. Da wir unterwegs einkehren\, bitte immer einen Geldbeutel mit ca. 20 € mitbringen. Bring bitte auch deinen Behindertenausweis mit gültiger Wertmarke mit. Juhuu und schon geht es los!
URL:https://lebenshilfe-calw.de/event/laendle-tour-11/
END:VEVENT
BEGIN:VEVENT
DTSTART;TZID=Europe/Berlin:20251210T130000
DTEND;TZID=Europe/Berlin:20251210T160000
DTSTAMP:20260422T122609
CREATED:20250111T130642Z
LAST-MODIFIED:20250111T130642Z
UID:9359-1765371600-1765382400@lebenshilfe-calw.de
SUMMARY:Mittwochsgruppe für Grundschulkinder
DESCRIPTION:Jeden Mittwoch (außer in den Schulferien) holen wir dich (Kinder im Grundschulalter) an der Karl-Georg-Haldenwang Schule ab und verbringen gemeinsam eine schöne Zeit im Lebenshilfehaus in Neuhengstett. Manchmal machen wir es uns gemütlich mit basteln und spielen\, mal wird auch ein kleiner Ausflug unternommen.
URL:https://lebenshilfe-calw.de/event/mittwochsgruppe-fuer-grundschulkinder-33/
END:VEVENT
BEGIN:VEVENT
DTSTART;TZID=Europe/Berlin:20251212T130000
DTEND;TZID=Europe/Berlin:20251215T160000
DTSTAMP:20260422T122609
CREATED:20250111T130956Z
LAST-MODIFIED:20250111T130956Z
UID:9422-1765544400-1765814400@lebenshilfe-calw.de
SUMMARY:Weihnachts-Wochenende im Lebenshilfe-Haus
DESCRIPTION:Verbringe ein schönes und gemütliches Wochenende voller Weihnachtsstimmung. Wir fahren zu verschiedenen Weihnachtsmärkten und genießen die festliche Atmosphäre.\nAbends sitzen wir gemütlich bei einem Punsch zusammen und hören eine spannende Weihnachtsgeschichte und singen Weihnachtslieder.\nEs wird ein ganz besonderes Wochenende mit Übernachtung im Lebenshilfe-Haus\, viel Spaß und Freude. Sei dabei und feiere mit uns die schönste Zeit des Jahres!\nBitte bring 20 Euro zum Essen gehen und zusätzliches Taschengeld für deine Weihnachtseinkäufe mit.
URL:https://lebenshilfe-calw.de/event/weihnachts-wochenende-im-lebenshilfe-haus/
END:VEVENT
BEGIN:VEVENT
DTSTART;TZID=Europe/Berlin:20251217T130000
DTEND;TZID=Europe/Berlin:20251217T160000
DTSTAMP:20260422T122609
CREATED:20250111T130642Z
LAST-MODIFIED:20250111T130642Z
UID:9360-1765976400-1765987200@lebenshilfe-calw.de
SUMMARY:Mittwochsgruppe für Grundschulkinder
DESCRIPTION:Jeden Mittwoch (außer in den Schulferien) holen wir dich (Kinder im Grundschulalter) an der Karl-Georg-Haldenwang Schule ab und verbringen gemeinsam eine schöne Zeit im Lebenshilfehaus in Neuhengstett. Manchmal machen wir es uns gemütlich mit basteln und spielen\, mal wird auch ein kleiner Ausflug unternommen.
URL:https://lebenshilfe-calw.de/event/mittwochsgruppe-fuer-grundschulkinder-34/
END:VEVENT
BEGIN:VEVENT
DTSTART;TZID=Europe/Berlin:20251219T120000
DTEND;TZID=Europe/Berlin:20251219T170000
DTSTAMP:20260422T122609
CREATED:20250111T130456Z
LAST-MODIFIED:20250111T130456Z
UID:9325-1766145600-1766163600@lebenshilfe-calw.de
SUMMARY:Freitags – Club (ab 10 Jahre)
DESCRIPTION:Du hast Lust dich mit anderen Jugendlichen und jungen Leuten zu treffen? Dann bist du hier richtig! Wir holen dich an der Schule ab und erleben tolle Sachen zusammen. Das kann zum Beispiel ein Ausflug ins Jugendhaus Calw sein oder eine Disco – Nachmittag im Lebenshilfe-Haus und vieles mehr.  Welche Ideen und Wünsche hast du?
URL:https://lebenshilfe-calw.de/event/freitags-club-ab-10-jahre-10/
END:VEVENT
BEGIN:VEVENT
DTSTART;TZID=Europe/Berlin:20251220T150000
DTEND;TZID=Europe/Berlin:20251220T220000
DTSTAMP:20260422T122609
CREATED:20250111T130957Z
LAST-MODIFIED:20250111T130957Z
UID:9423-1766242800-1766268000@lebenshilfe-calw.de
SUMMARY:Erlebnistag „Eins und Alles leuchtet“
DESCRIPTION:Der Erlebnispark „EINS und ALLES“ im Welzheimer Wald ist etwas ganz Besonderes und ist immer ein Besuch wert. Zur Adventszeit ist der Park magisch beleuchtet:Lerne EINS+ALLES in einer ganz neuen Atmosphäre kennen und lass dich auf dem WUNDERWEG mit jedem Schritt aufs Neue inspirieren.\nEINS+ALLES leuchtet! ist ein besonderes Erlebnis für Groß und Klein.\nGenieße wärmende Köstlichkeiten an der Mollibox und freue dich auf Überraschungen.\nEin ganz toller Ausflug zum Jahresabschluss!\nBitte bring 20 Euro Taschengeld für Essen und Getränke mit
URL:https://lebenshilfe-calw.de/event/erlebnistag-eins-und-alles-leuchtet/
END:VEVENT
BEGIN:VEVENT
DTSTART;TZID=Europe/Berlin:20251221T140000
DTEND;TZID=Europe/Berlin:20251221T170000
DTSTAMP:20260422T122609
CREATED:20250111T131012Z
LAST-MODIFIED:20250111T131012Z
UID:9430-1766325600-1766336400@lebenshilfe-calw.de
SUMMARY:Weihnachtsfeier
DESCRIPTION:Alle Jahre wieder geht ein weiteres spannendes Jahr vorbei… Wir laden euch ein einen gemütlichen Nachmittag im Lebenshilfehaus. Wir werden zurück auf die Highlights 2025 schauen und schon einen Blick hinein werfen\, was die Lebenshilfe für 2026 alles geplant hat.Freut euch auf weihnachtliche Musik\, warme Getränke und Leckereien\, kleine Spielereien und vor allem eine tolle Gesellschaft! \nAnmeldung ist nicht erforderlich; Aber es hilft uns natürlich trotzdem beim planen\, wenn ihr uns Bescheid sagt\, dass ihr kommt.
URL:https://lebenshilfe-calw.de/event/weihnachtsfeier/
END:VEVENT
END:VCALENDAR