BEGIN:VCALENDAR
VERSION:2.0
PRODID:-//Lebenshilfe Calw e.V. - ECPv6.15.11//NONSGML v1.0//EN
CALSCALE:GREGORIAN
METHOD:PUBLISH
X-ORIGINAL-URL:https://lebenshilfe-calw.de
X-WR-CALDESC:Veranstaltungen für Lebenshilfe Calw e.V.
REFRESH-INTERVAL;VALUE=DURATION:PT1H
X-Robots-Tag:noindex
X-PUBLISHED-TTL:PT1H
BEGIN:VTIMEZONE
TZID:Europe/Berlin
BEGIN:DAYLIGHT
TZOFFSETFROM:+0100
TZOFFSETTO:+0200
TZNAME:CEST
DTSTART:20250330T010000
END:DAYLIGHT
BEGIN:STANDARD
TZOFFSETFROM:+0200
TZOFFSETTO:+0100
TZNAME:CET
DTSTART:20251026T010000
END:STANDARD
BEGIN:DAYLIGHT
TZOFFSETFROM:+0100
TZOFFSETTO:+0200
TZNAME:CEST
DTSTART:20260329T010000
END:DAYLIGHT
BEGIN:STANDARD
TZOFFSETFROM:+0200
TZOFFSETTO:+0100
TZNAME:CET
DTSTART:20261025T010000
END:STANDARD
BEGIN:DAYLIGHT
TZOFFSETFROM:+0100
TZOFFSETTO:+0200
TZNAME:CEST
DTSTART:20270328T010000
END:DAYLIGHT
BEGIN:STANDARD
TZOFFSETFROM:+0200
TZOFFSETTO:+0100
TZNAME:CET
DTSTART:20271031T010000
END:STANDARD
END:VTIMEZONE
BEGIN:VEVENT
DTSTART;TZID=Europe/Berlin:20261001T160000
DTEND;TZID=Europe/Berlin:20261001T200000
DTSTAMP:20260422T114135
CREATED:20251222T124935Z
LAST-MODIFIED:20251222T124935Z
UID:9650-1790870400-1790884800@lebenshilfe-calw.de
SUMMARY:Fröhlicher Feierabend
DESCRIPTION:Weitere Informationen entnehmen Sie bitte dem Programmheft
URL:https://lebenshilfe-calw.de/event/froehlicher-feierabend-30/
END:VEVENT
BEGIN:VEVENT
DTSTART;TZID=Europe/Berlin:20261002T140000
DTEND;TZID=Europe/Berlin:20261002T210000
DTSTAMP:20260422T114135
CREATED:20251222T124936Z
LAST-MODIFIED:20251222T124936Z
UID:9651-1790949600-1790974800@lebenshilfe-calw.de
SUMMARY:Nachteulen Cannstatter Wasen
DESCRIPTION:Weitere Informationen entnehmen Sie bitte dem Programmheft
URL:https://lebenshilfe-calw.de/event/nachteulen-cannstatter-wasen/
END:VEVENT
BEGIN:VEVENT
DTSTART;TZID=Europe/Berlin:20261004T090000
DTEND;TZID=Europe/Berlin:20261004T130000
DTSTAMP:20260422T114135
CREATED:20251222T124936Z
LAST-MODIFIED:20251222T124936Z
UID:9652-1791104400-1791118800@lebenshilfe-calw.de
SUMMARY:Tanz und Sport
DESCRIPTION:Weitere Informationen entnehmen Sie bitte dem Programmheft
URL:https://lebenshilfe-calw.de/event/tanz-und-sport-6/
END:VEVENT
BEGIN:VEVENT
DTSTART;TZID=Europe/Berlin:20261006T180000
DTEND;TZID=Europe/Berlin:20261006T180000
DTSTAMP:20260422T114135
CREATED:20251222T124936Z
LAST-MODIFIED:20251222T124936Z
UID:9653-1791309600-1791309600@lebenshilfe-calw.de
SUMMARY:Infoabend Behindertentestament
DESCRIPTION:Weitere Informationen entnehmen Sie bitte dem Programmheft
URL:https://lebenshilfe-calw.de/event/infoabend-behindertentestament/
END:VEVENT
BEGIN:VEVENT
DTSTART;TZID=Europe/Berlin:20261007T130000
DTEND;TZID=Europe/Berlin:20261007T160000
DTSTAMP:20260422T114135
CREATED:20251222T124944Z
LAST-MODIFIED:20251222T124944Z
UID:9654-1791378000-1791388800@lebenshilfe-calw.de
SUMMARY:Mittwochsgruppe
DESCRIPTION:Weitere Informationen entnehmen Sie bitte dem Programmheft
URL:https://lebenshilfe-calw.de/event/mittwochsgruppe-28/
END:VEVENT
BEGIN:VEVENT
DTSTART;TZID=Europe/Berlin:20261008T160000
DTEND;TZID=Europe/Berlin:20261008T200000
DTSTAMP:20260422T114135
CREATED:20251222T124945Z
LAST-MODIFIED:20251222T124945Z
UID:9655-1791475200-1791489600@lebenshilfe-calw.de
SUMMARY:Fröhlicher Feierabend
DESCRIPTION:Weitere Informationen entnehmen Sie bitte dem Programmheft
URL:https://lebenshilfe-calw.de/event/froehlicher-feierabend-31/
END:VEVENT
BEGIN:VEVENT
DTSTART;TZID=Europe/Berlin:20261009T130000
DTEND;TZID=Europe/Berlin:20261011T160000
DTSTAMP:20260422T114135
CREATED:20251222T124945Z
LAST-MODIFIED:20251222T124945Z
UID:9656-1791550800-1791734400@lebenshilfe-calw.de
SUMMARY:Pferde Wochenende
DESCRIPTION:Weitere Informationen entnehmen Sie bitte dem Programmheft
URL:https://lebenshilfe-calw.de/event/pferde-wochenende/
END:VEVENT
BEGIN:VEVENT
DTSTART;TZID=Europe/Berlin:20261014T130000
DTEND;TZID=Europe/Berlin:20261014T160000
DTSTAMP:20260422T114135
CREATED:20251222T124945Z
LAST-MODIFIED:20251222T124945Z
UID:9657-1791982800-1791993600@lebenshilfe-calw.de
SUMMARY:Mittwochsgruppe
DESCRIPTION:Weitere Informationen entnehmen Sie bitte dem Programmheft
URL:https://lebenshilfe-calw.de/event/mittwochsgruppe-29/
END:VEVENT
BEGIN:VEVENT
DTSTART;TZID=Europe/Berlin:20261015T160000
DTEND;TZID=Europe/Berlin:20261015T200000
DTSTAMP:20260422T114135
CREATED:20251222T124945Z
LAST-MODIFIED:20251222T124945Z
UID:9658-1792080000-1792094400@lebenshilfe-calw.de
SUMMARY:Fröhlicher Feierabend
DESCRIPTION:Weitere Informationen entnehmen Sie bitte dem Programmheft
URL:https://lebenshilfe-calw.de/event/froehlicher-feierabend-32/
END:VEVENT
BEGIN:VEVENT
DTSTART;TZID=Europe/Berlin:20261017T000000
DTEND;TZID=Europe/Berlin:20261017T000000
DTSTAMP:20260422T114135
CREATED:20251222T124947Z
LAST-MODIFIED:20251222T124947Z
UID:9660-1792195200-1792195200@lebenshilfe-calw.de
SUMMARY:Gartenaktionstag
DESCRIPTION:Weitere Informationen entnehmen Sie bitte dem Programmheft
URL:https://lebenshilfe-calw.de/event/gartenaktionstag-2/
END:VEVENT
BEGIN:VEVENT
DTSTART;TZID=Europe/Berlin:20261017T100000
DTEND;TZID=Europe/Berlin:20261017T170000
DTSTAMP:20260422T114135
CREATED:20251222T124946Z
LAST-MODIFIED:20251222T124946Z
UID:9659-1792231200-1792256400@lebenshilfe-calw.de
SUMMARY:Ländletour
DESCRIPTION:Weitere Informationen entnehmen Sie bitte dem Programmheft
URL:https://lebenshilfe-calw.de/event/laendletour-9/
END:VEVENT
BEGIN:VEVENT
DTSTART;TZID=Europe/Berlin:20261018T100000
DTEND;TZID=Europe/Berlin:20261018T170000
DTSTAMP:20260422T114135
CREATED:20251222T124947Z
LAST-MODIFIED:20251222T124947Z
UID:9661-1792317600-1792342800@lebenshilfe-calw.de
SUMMARY:Boys Only Tag
DESCRIPTION:Weitere Informationen entnehmen Sie bitte dem Programmheft
URL:https://lebenshilfe-calw.de/event/boys-only-tag/
END:VEVENT
BEGIN:VEVENT
DTSTART;TZID=Europe/Berlin:20261021T130000
DTEND;TZID=Europe/Berlin:20261021T160000
DTSTAMP:20260422T114135
CREATED:20251222T124947Z
LAST-MODIFIED:20251222T124947Z
UID:9662-1792587600-1792598400@lebenshilfe-calw.de
SUMMARY:Mittwochsgruppe
DESCRIPTION:Weitere Informationen entnehmen Sie bitte dem Programmheft
URL:https://lebenshilfe-calw.de/event/mittwochsgruppe-30/
END:VEVENT
BEGIN:VEVENT
DTSTART;TZID=Europe/Berlin:20261022T160000
DTEND;TZID=Europe/Berlin:20261022T200000
DTSTAMP:20260422T114135
CREATED:20251222T124947Z
LAST-MODIFIED:20251222T124947Z
UID:9663-1792684800-1792699200@lebenshilfe-calw.de
SUMMARY:Fröhlicher Feierabend
DESCRIPTION:Weitere Informationen entnehmen Sie bitte dem Programmheft
URL:https://lebenshilfe-calw.de/event/froehlicher-feierabend-33/
END:VEVENT
BEGIN:VEVENT
DTSTART;TZID=Europe/Berlin:20261023T120000
DTEND;TZID=Europe/Berlin:20261023T170000
DTSTAMP:20260422T114135
CREATED:20251222T124952Z
LAST-MODIFIED:20251222T124952Z
UID:9664-1792756800-1792774800@lebenshilfe-calw.de
SUMMARY:Freitagsclub
DESCRIPTION:Weitere Informationen entnehmen Sie bitte dem Programmheft
URL:https://lebenshilfe-calw.de/event/freitagsclub-9/
END:VEVENT
BEGIN:VEVENT
DTSTART;TZID=Europe/Berlin:20261024T000000
DTEND;TZID=Europe/Berlin:20261024T000000
DTSTAMP:20260422T114135
CREATED:20251222T124953Z
LAST-MODIFIED:20251222T124953Z
UID:9665-1792800000-1792800000@lebenshilfe-calw.de
SUMMARY:Malen und Musik
DESCRIPTION:Weitere Informationen entnehmen Sie bitte dem Programmheft
URL:https://lebenshilfe-calw.de/event/malen-und-musik/
END:VEVENT
BEGIN:VEVENT
DTSTART;TZID=Europe/Berlin:20261025T080000
DTEND;TZID=Europe/Berlin:20261025T180000
DTSTAMP:20260422T114135
CREATED:20251222T124953Z
LAST-MODIFIED:20251222T124953Z
UID:9666-1792915200-1792951200@lebenshilfe-calw.de
SUMMARY:Thermalbad
DESCRIPTION:Weitere Informationen entnehmen Sie bitte dem Programmheft
URL:https://lebenshilfe-calw.de/event/thermalbad/
END:VEVENT
BEGIN:VEVENT
DTSTART;TZID=Europe/Berlin:20261026T083000
DTEND;TZID=Europe/Berlin:20261030T163000
DTSTAMP:20260422T114135
CREATED:20251222T124953Z
LAST-MODIFIED:20251222T124953Z
UID:9667-1793003400-1793377800@lebenshilfe-calw.de
SUMMARY:Ferienprogramm Jugendfarm
DESCRIPTION:Weitere Informationen entnehmen Sie bitte dem Programmheft
URL:https://lebenshilfe-calw.de/event/ferienprogramm-jugendfarm/
END:VEVENT
BEGIN:VEVENT
DTSTART;TZID=Europe/Berlin:20261029T160000
DTEND;TZID=Europe/Berlin:20261029T200000
DTSTAMP:20260422T114135
CREATED:20251222T124953Z
LAST-MODIFIED:20251222T124953Z
UID:9668-1793289600-1793304000@lebenshilfe-calw.de
SUMMARY:Fröhlicher Feierabend
DESCRIPTION:Weitere Informationen entnehmen Sie bitte dem Programmheft
URL:https://lebenshilfe-calw.de/event/froehlicher-feierabend-34/
END:VEVENT
BEGIN:VEVENT
DTSTART;TZID=Europe/Berlin:20261030T130000
DTEND;TZID=Europe/Berlin:20261030T160000
DTSTAMP:20260422T114135
CREATED:20251222T125002Z
LAST-MODIFIED:20251222T125002Z
UID:9670-1793365200-1793376000@lebenshilfe-calw.de
SUMMARY:Gemütlicher Freitag
DESCRIPTION:Weitere Informationen entnehmen Sie bitte dem Programmheft
URL:https://lebenshilfe-calw.de/event/gemuetlicher-freitag-9/
END:VEVENT
BEGIN:VEVENT
DTSTART;TZID=Europe/Berlin:20261031T160000
DTEND;TZID=Europe/Berlin:20261031T200000
DTSTAMP:20260422T114135
CREATED:20251222T125002Z
LAST-MODIFIED:20251222T125002Z
UID:9671-1793462400-1793476800@lebenshilfe-calw.de
SUMMARY:Halloweenparty
DESCRIPTION:Weitere Informationen entnehmen Sie bitte dem Programmheft
URL:https://lebenshilfe-calw.de/event/halloweenparty/
END:VEVENT
END:VCALENDAR