BEGIN:VCALENDAR
VERSION:2.0
PRODID:-//Lebenshilfe Calw e.V. - ECPv6.15.11//NONSGML v1.0//EN
CALSCALE:GREGORIAN
METHOD:PUBLISH
X-ORIGINAL-URL:https://lebenshilfe-calw.de
X-WR-CALDESC:Veranstaltungen für Lebenshilfe Calw e.V.
REFRESH-INTERVAL;VALUE=DURATION:PT1H
X-Robots-Tag:noindex
X-PUBLISHED-TTL:PT1H
BEGIN:VTIMEZONE
TZID:Europe/Berlin
BEGIN:DAYLIGHT
TZOFFSETFROM:+0100
TZOFFSETTO:+0200
TZNAME:CEST
DTSTART:20250330T010000
END:DAYLIGHT
BEGIN:STANDARD
TZOFFSETFROM:+0200
TZOFFSETTO:+0100
TZNAME:CET
DTSTART:20251026T010000
END:STANDARD
BEGIN:DAYLIGHT
TZOFFSETFROM:+0100
TZOFFSETTO:+0200
TZNAME:CEST
DTSTART:20260329T010000
END:DAYLIGHT
BEGIN:STANDARD
TZOFFSETFROM:+0200
TZOFFSETTO:+0100
TZNAME:CET
DTSTART:20261025T010000
END:STANDARD
BEGIN:DAYLIGHT
TZOFFSETFROM:+0100
TZOFFSETTO:+0200
TZNAME:CEST
DTSTART:20270328T010000
END:DAYLIGHT
BEGIN:STANDARD
TZOFFSETFROM:+0200
TZOFFSETTO:+0100
TZNAME:CET
DTSTART:20271031T010000
END:STANDARD
END:VTIMEZONE
BEGIN:VEVENT
DTSTART;TZID=Europe/Berlin:20261202T130000
DTEND;TZID=Europe/Berlin:20261202T160000
DTSTAMP:20260420T150045
CREATED:20251222T125037Z
LAST-MODIFIED:20251222T125037Z
UID:9692-1796216400-1796227200@lebenshilfe-calw.de
SUMMARY:Mittwochsgruppe
DESCRIPTION:Weitere Informationen entnehmen Sie bitte dem Programmheft
URL:https://lebenshilfe-calw.de/event/mittwochsgruppe-35/
END:VEVENT
BEGIN:VEVENT
DTSTART;TZID=Europe/Berlin:20261203T160000
DTEND;TZID=Europe/Berlin:20261203T200000
DTSTAMP:20260420T150045
CREATED:20251222T125037Z
LAST-MODIFIED:20251222T125037Z
UID:9693-1796313600-1796328000@lebenshilfe-calw.de
SUMMARY:Fröhlicher Feierabend
DESCRIPTION:Weitere Informationen entnehmen Sie bitte dem Programmheft
URL:https://lebenshilfe-calw.de/event/froehlicher-feierabend-39/
END:VEVENT
BEGIN:VEVENT
DTSTART;TZID=Europe/Berlin:20261204T130000
DTEND;TZID=Europe/Berlin:20261204T160000
DTSTAMP:20260420T150045
CREATED:20251222T125037Z
LAST-MODIFIED:20251222T125037Z
UID:9695-1796389200-1796400000@lebenshilfe-calw.de
SUMMARY:Gemütlicher Freitag
DESCRIPTION:Weitere Informationen entnehmen Sie bitte dem Programmheft
URL:https://lebenshilfe-calw.de/event/gemuetlicher-freitag-11/
END:VEVENT
BEGIN:VEVENT
DTSTART;TZID=Europe/Berlin:20261204T170000
DTEND;TZID=Europe/Berlin:20261204T210000
DTSTAMP:20260420T150045
CREATED:20251222T125037Z
LAST-MODIFIED:20251222T125037Z
UID:9694-1796403600-1796418000@lebenshilfe-calw.de
SUMMARY:Nachteulen Weihnachtsmarkt
DESCRIPTION:Weitere Informationen entnehmen Sie bitte dem Programmheft
URL:https://lebenshilfe-calw.de/event/nachteulen-weihnachtsmarkt/
END:VEVENT
BEGIN:VEVENT
DTSTART;TZID=Europe/Berlin:20261205T100000
DTEND;TZID=Europe/Berlin:20261205T170000
DTSTAMP:20260420T150045
CREATED:20251222T125038Z
LAST-MODIFIED:20251222T125038Z
UID:9696-1796464800-1796490000@lebenshilfe-calw.de
SUMMARY:Ländletour
DESCRIPTION:Weitere Informationen entnehmen Sie bitte dem Programmheft
URL:https://lebenshilfe-calw.de/event/laendletour-11/
END:VEVENT
BEGIN:VEVENT
DTSTART;TZID=Europe/Berlin:20261209T130000
DTEND;TZID=Europe/Berlin:20261209T160000
DTSTAMP:20260420T150045
CREATED:20251222T125044Z
LAST-MODIFIED:20251222T125044Z
UID:9697-1796821200-1796832000@lebenshilfe-calw.de
SUMMARY:Mittwochsgruppe
DESCRIPTION:Weitere Informationen entnehmen Sie bitte dem Programmheft
URL:https://lebenshilfe-calw.de/event/mittwochsgruppe-36/
END:VEVENT
BEGIN:VEVENT
DTSTART;TZID=Europe/Berlin:20261210T160000
DTEND;TZID=Europe/Berlin:20261210T200000
DTSTAMP:20260420T150045
CREATED:20251222T125044Z
LAST-MODIFIED:20251222T125044Z
UID:9698-1796918400-1796932800@lebenshilfe-calw.de
SUMMARY:Fröhlicher Feierabend
DESCRIPTION:Weitere Informationen entnehmen Sie bitte dem Programmheft
URL:https://lebenshilfe-calw.de/event/froehlicher-feierabend-40/
END:VEVENT
BEGIN:VEVENT
DTSTART;TZID=Europe/Berlin:20261211T130000
DTEND;TZID=Europe/Berlin:20261213T160000
DTSTAMP:20260420T150045
CREATED:20251222T125044Z
LAST-MODIFIED:20251222T125044Z
UID:9699-1796994000-1797177600@lebenshilfe-calw.de
SUMMARY:Weihnachts Wochenende
DESCRIPTION:Weitere Informationen entnehmen Sie bitte dem Programmheft
URL:https://lebenshilfe-calw.de/event/weihnachts-wochenende/
END:VEVENT
BEGIN:VEVENT
DTSTART;TZID=Europe/Berlin:20261216T130000
DTEND;TZID=Europe/Berlin:20261216T160000
DTSTAMP:20260420T150045
CREATED:20251222T125044Z
LAST-MODIFIED:20251222T125044Z
UID:9700-1797426000-1797436800@lebenshilfe-calw.de
SUMMARY:Mittwochsgruppe
DESCRIPTION:Weitere Informationen entnehmen Sie bitte dem Programmheft
URL:https://lebenshilfe-calw.de/event/mittwochsgruppe-37/
END:VEVENT
BEGIN:VEVENT
DTSTART;TZID=Europe/Berlin:20261217T160000
DTEND;TZID=Europe/Berlin:20261217T200000
DTSTAMP:20260420T150045
CREATED:20251222T125045Z
LAST-MODIFIED:20251222T125045Z
UID:9701-1797523200-1797537600@lebenshilfe-calw.de
SUMMARY:Fröhlicher Feierabend
DESCRIPTION:Weitere Informationen entnehmen Sie bitte dem Programmheft
URL:https://lebenshilfe-calw.de/event/froehlicher-feierabend-41/
END:VEVENT
BEGIN:VEVENT
DTSTART;TZID=Europe/Berlin:20261218T120000
DTEND;TZID=Europe/Berlin:20261218T170000
DTSTAMP:20260420T150045
CREATED:20251222T125054Z
LAST-MODIFIED:20251222T125055Z
UID:9702-1797595200-1797613200@lebenshilfe-calw.de
SUMMARY:Freitagsclub
DESCRIPTION:Weitere Informationen entnehmen Sie bitte dem Programmheft
URL:https://lebenshilfe-calw.de/event/freitagsclub-11/
END:VEVENT
BEGIN:VEVENT
DTSTART;TZID=Europe/Berlin:20261218T160000
DTEND;TZID=Europe/Berlin:20261219T100000
DTSTAMP:20260420T150045
CREATED:20251222T125054Z
LAST-MODIFIED:20251222T125055Z
UID:9703-1797609600-1797674400@lebenshilfe-calw.de
SUMMARY:PUR Konzert
DESCRIPTION:Weitere Informationen entnehmen Sie bitte dem Programmheft
URL:https://lebenshilfe-calw.de/event/pur-konzert/
END:VEVENT
BEGIN:VEVENT
DTSTART;TZID=Europe/Berlin:20261219T100000
DTEND;TZID=Europe/Berlin:20261219T170000
DTSTAMP:20260420T150045
CREATED:20251222T125054Z
LAST-MODIFIED:20251222T125055Z
UID:9704-1797674400-1797699600@lebenshilfe-calw.de
SUMMARY:Christmas Garden
DESCRIPTION:Weitere Informationen entnehmen Sie bitte dem Programmheft
URL:https://lebenshilfe-calw.de/event/christmas-garden/
END:VEVENT
BEGIN:VEVENT
DTSTART;TZID=Europe/Berlin:20261220T140000
DTEND;TZID=Europe/Berlin:20261220T170000
DTSTAMP:20260420T150045
CREATED:20251222T125054Z
LAST-MODIFIED:20251222T125055Z
UID:9705-1797775200-1797786000@lebenshilfe-calw.de
SUMMARY:Weihnachtsfeier
DESCRIPTION:Weitere Informationen entnehmen Sie bitte dem Programmheft
URL:https://lebenshilfe-calw.de/event/weihnachtsfeier-2/
END:VEVENT
END:VCALENDAR